BEGIN:VCALENDAR
VERSION:2.0
PRODID:-//Yokuma - ECPv6.15.13.1//NONSGML v1.0//EN
CALSCALE:GREGORIAN
METHOD:PUBLISH
X-ORIGINAL-URL:https://yokuma.de
X-WR-CALDESC:Veranstaltungen für Yokuma
REFRESH-INTERVAL;VALUE=DURATION:PT1H
X-Robots-Tag:noindex
X-PUBLISHED-TTL:PT1H
BEGIN:VTIMEZONE
TZID:Europe/Amsterdam
BEGIN:DAYLIGHT
TZOFFSETFROM:+0100
TZOFFSETTO:+0200
TZNAME:CEST
DTSTART:20240331T010000
END:DAYLIGHT
BEGIN:STANDARD
TZOFFSETFROM:+0200
TZOFFSETTO:+0100
TZNAME:CET
DTSTART:20241027T010000
END:STANDARD
BEGIN:DAYLIGHT
TZOFFSETFROM:+0100
TZOFFSETTO:+0200
TZNAME:CEST
DTSTART:20250330T010000
END:DAYLIGHT
BEGIN:STANDARD
TZOFFSETFROM:+0200
TZOFFSETTO:+0100
TZNAME:CET
DTSTART:20251026T010000
END:STANDARD
BEGIN:DAYLIGHT
TZOFFSETFROM:+0100
TZOFFSETTO:+0200
TZNAME:CEST
DTSTART:20260329T010000
END:DAYLIGHT
BEGIN:STANDARD
TZOFFSETFROM:+0200
TZOFFSETTO:+0100
TZNAME:CET
DTSTART:20261025T010000
END:STANDARD
END:VTIMEZONE
BEGIN:VEVENT
DTSTART;TZID=Europe/Amsterdam:20251108T193000
DTEND;TZID=Europe/Amsterdam:20251108T230000
DTSTAMP:20260426T053550
CREATED:20250728T133658Z
LAST-MODIFIED:20251103T151032Z
UID:4694-1762630200-1762642800@yokuma.de
SUMMARY:Ecstatic Dance November mit Kakaozeremonie (nur mit Anmeldung)
DESCRIPTION:Diesmal findet zu Beginn des Tanzens eine kleine Kakaozeremonie statt. Taucht mit mir gemeinsam in das wunderbare und weite Gefühl unserer Seele ein\, fühlt das wärmende\, geborgene Gefühl von Mama Kakao\, wie der zeremonielle Rohkakao auch liebevoll genannt wird. Fühlt wie Euer Körper weich\, warm und weit wird. Von diesem Ort in uns strömen wir langsam in den Tanz! \n  \nEinmal im Monat öffnet sich ein tiefer\, heilsamer Raum\, voller Frieden und Achtsamkeit. In zauberhafter Atmosphäre des Turmsaals widmen wir uns dem Tanz\, dem freien Ausdruck von uns selbst. Genieße das wunderbar befreite Gefühl\, welches durch den Tanz entsteht. \nAblauf: \n19.30 – 20.00 Uhr: Ankommen \n20.00 – 21.00 Uhr: Gemeinsames Einstimmen\, Kakao trinken\, Klang und Seelenreise \n21.00 – 22.30 Uhr: Tanzreise \n22.30 – 23.00 Uhr: Ausklang
URL:https://yokuma.de/event/ecstatic-dance-im-november/
LOCATION:Turmsaal Schongau\, Münzstr. 48\, Schongau\, 86956
END:VEVENT
END:VCALENDAR