BEGIN:VCALENDAR
VERSION:2.0
PRODID:-//Yokuma - ECPv6.15.13.1//NONSGML v1.0//EN
CALSCALE:GREGORIAN
METHOD:PUBLISH
X-ORIGINAL-URL:https://yokuma.de
X-WR-CALDESC:Veranstaltungen für Yokuma
REFRESH-INTERVAL;VALUE=DURATION:PT1H
X-Robots-Tag:noindex
X-PUBLISHED-TTL:PT1H
BEGIN:VTIMEZONE
TZID:Europe/Amsterdam
BEGIN:DAYLIGHT
TZOFFSETFROM:+0100
TZOFFSETTO:+0200
TZNAME:CEST
DTSTART:20240331T010000
END:DAYLIGHT
BEGIN:STANDARD
TZOFFSETFROM:+0200
TZOFFSETTO:+0100
TZNAME:CET
DTSTART:20241027T010000
END:STANDARD
BEGIN:DAYLIGHT
TZOFFSETFROM:+0100
TZOFFSETTO:+0200
TZNAME:CEST
DTSTART:20250330T010000
END:DAYLIGHT
BEGIN:STANDARD
TZOFFSETFROM:+0200
TZOFFSETTO:+0100
TZNAME:CET
DTSTART:20251026T010000
END:STANDARD
BEGIN:DAYLIGHT
TZOFFSETFROM:+0100
TZOFFSETTO:+0200
TZNAME:CEST
DTSTART:20260329T010000
END:DAYLIGHT
BEGIN:STANDARD
TZOFFSETFROM:+0200
TZOFFSETTO:+0100
TZNAME:CET
DTSTART:20261025T010000
END:STANDARD
END:VTIMEZONE
BEGIN:VEVENT
DTSTART;TZID=Europe/Amsterdam:20251220T193000
DTEND;TZID=Europe/Amsterdam:20251220T230000
DTSTAMP:20260426T040746
CREATED:20250728T134455Z
LAST-MODIFIED:20251217T154808Z
UID:4700-1766259000-1766271600@yokuma.de
SUMMARY:Special Ecstatic Dance & Sacred Singcircle mit Arts of the hearts
DESCRIPTION:Die zwei wundervollen Zwillingsschwestern Susi & Rabija von Arts of the hearts begleiten uns nach dem Tanzen auf eine tiefe Reise in unsere innere Stimmwelt. Ihre Stimmen kommen wahrlich wie aus einer anderen Sphäre. Die Schwestern haben 10 Jahre auf Hawaii gelebt und bringen diesen Spirit mit. Tief\, zauberhaft\, elfengleich und unendlich zart trifft hier synergetisch auf die unglaublich besondere Energie von Ecstatic Dance in Schongau. Lasst Euch mitnehmen und verzaubern durch Tanz\, Stimme\, Atmosphäre! \nAblauf: \n19.30 – 20.00 Uhr: Ankommen \n20.00 – 20.30 Uhr: Gemeinsames Einstimmen\, Kakao trinken\, Achtsamkeit und Atemübungen \n20.30 – 22.00 Uhr: Tanzreise \n22.00 – 23.00 Uhr: Sacred Singcircle mit Susi & Rabija von Arts of the heart \n23.00 – open end: Ausklang\, Gemeinschaft\, Austausch \n 
URL:https://yokuma.de/event/special-ecstatic-dance/
LOCATION:Turmsaal Schongau\, Münzstr. 48\, Schongau\, 86956
END:VEVENT
END:VCALENDAR