BEGIN:VCALENDAR
VERSION:2.0
PRODID:-//Yokuma - ECPv6.15.13.1//NONSGML v1.0//EN
CALSCALE:GREGORIAN
METHOD:PUBLISH
X-WR-CALNAME:Yokuma
X-ORIGINAL-URL:https://yokuma.de
X-WR-CALDESC:Veranstaltungen für Yokuma
REFRESH-INTERVAL;VALUE=DURATION:PT1H
X-Robots-Tag:noindex
X-PUBLISHED-TTL:PT1H
BEGIN:VTIMEZONE
TZID:Europe/Amsterdam
BEGIN:DAYLIGHT
TZOFFSETFROM:+0100
TZOFFSETTO:+0200
TZNAME:CEST
DTSTART:20250330T010000
END:DAYLIGHT
BEGIN:STANDARD
TZOFFSETFROM:+0200
TZOFFSETTO:+0100
TZNAME:CET
DTSTART:20251026T010000
END:STANDARD
BEGIN:DAYLIGHT
TZOFFSETFROM:+0100
TZOFFSETTO:+0200
TZNAME:CEST
DTSTART:20260329T010000
END:DAYLIGHT
BEGIN:STANDARD
TZOFFSETFROM:+0200
TZOFFSETTO:+0100
TZNAME:CET
DTSTART:20261025T010000
END:STANDARD
BEGIN:DAYLIGHT
TZOFFSETFROM:+0100
TZOFFSETTO:+0200
TZNAME:CEST
DTSTART:20270328T010000
END:DAYLIGHT
BEGIN:STANDARD
TZOFFSETFROM:+0200
TZOFFSETTO:+0100
TZNAME:CET
DTSTART:20271031T010000
END:STANDARD
END:VTIMEZONE
BEGIN:VEVENT
DTSTART;TZID=Europe/Amsterdam:20260128T183000
DTEND;TZID=Europe/Amsterdam:20260128T201500
DTSTAMP:20260426T003302
CREATED:20251204T141155Z
LAST-MODIFIED:20251204T141155Z
UID:5088-1769625000-1769631300@yokuma.de
SUMMARY:NEUE YOGAKURSE 2026 (Mittwoch)
DESCRIPTION:Ihr Lieben\, \nEnde Januar beginnen die neuen Yogakurse. \nDurch sanfte und achtsame Hingabe an unseren Körper erleben wir hier einen lichtvollen Raum in geschützter Atmosphäre. Dieser Kurs ist eine Reise zu deinem Inneren\, zu Deiner Seele. In Verbindung mit Atempraxis\, Meditation\, herzöffnenden Übungen und energetischer Begleitung ist ein tiefes Kontemplieren und Eintauchen in die inneren Welten möglich. Jenseits des Alltages tauchen wir in eine Oase des Friedens ein. \nIch freue mich von HERZEN auf alle Menschen\, die diesen Raum teilen und wir gemeinsam unser Licht zum Strahlen bringen. \nFühle Dich von Herzen Willkommen! \nDeine Victoria Jamila \nBei Fragen zum Kurs schreibe mir gerne an: info@yokuma.de oder kontaktiere mich telefonisch: 01783213593 \nKurszeiten jeweils 18.30 – 20.15 Uhr \n28.JAN. \n4./ 11./ 25. FEB \n4./ 11./ 18./ 25. MAR \n1. APR \n  \n198\,00 EUR NETTO  \n+ 37\,62 MwSt. \n235\,62 EUR  \nÜberweisungen bitte an: \nDE90 7016 9509 0000 0831 27 \nVerwendungszweck: Vollen Namen + Mittwochskurs
URL:https://yokuma.de/event/neue-yogakurse-2026-mittwoch/
LOCATION:Hofschmückerei Füssener Str. 41 86989 Steingaden
END:VEVENT
END:VCALENDAR