BEGIN:VCALENDAR
VERSION:2.0
PRODID:-//Yokuma - ECPv6.15.13.1//NONSGML v1.0//EN
CALSCALE:GREGORIAN
METHOD:PUBLISH
X-ORIGINAL-URL:https://yokuma.de
X-WR-CALDESC:Veranstaltungen für Yokuma
REFRESH-INTERVAL;VALUE=DURATION:PT1H
X-Robots-Tag:noindex
X-PUBLISHED-TTL:PT1H
BEGIN:VTIMEZONE
TZID:Europe/Amsterdam
BEGIN:DAYLIGHT
TZOFFSETFROM:+0100
TZOFFSETTO:+0200
TZNAME:CEST
DTSTART:20250330T010000
END:DAYLIGHT
BEGIN:STANDARD
TZOFFSETFROM:+0200
TZOFFSETTO:+0100
TZNAME:CET
DTSTART:20251026T010000
END:STANDARD
BEGIN:DAYLIGHT
TZOFFSETFROM:+0100
TZOFFSETTO:+0200
TZNAME:CEST
DTSTART:20260329T010000
END:DAYLIGHT
BEGIN:STANDARD
TZOFFSETFROM:+0200
TZOFFSETTO:+0100
TZNAME:CET
DTSTART:20261025T010000
END:STANDARD
BEGIN:DAYLIGHT
TZOFFSETFROM:+0100
TZOFFSETTO:+0200
TZNAME:CEST
DTSTART:20270328T010000
END:DAYLIGHT
BEGIN:STANDARD
TZOFFSETFROM:+0200
TZOFFSETTO:+0100
TZNAME:CET
DTSTART:20271031T010000
END:STANDARD
END:VTIMEZONE
BEGIN:VEVENT
DTSTART;TZID=Europe/Amsterdam:20260214T193000
DTEND;TZID=Europe/Amsterdam:20260214T230000
DTSTAMP:20260426T022047
CREATED:20251203T145150Z
LAST-MODIFIED:20260208T074826Z
UID:5061-1771097400-1771110000@yokuma.de
SUMMARY:Ecstatic Dance Valentinstagstanz mit Kakaozeremonie für Herzöffnung
DESCRIPTION:  ♥ Valentinsspecial: Bringe eine 2. Person mit und bezahlt 15% weniger vom gemeinsamen Eintritt. ♥\n  \n  \nIhr Lieben\, \n  \nEcstatic Dance startet in das neue Jahr 2026. Ab diesem Jahr wird es bei jedem Tanzen ein Special geben. Dieses mal wird es eine kleine einstündige Kakaozeremonie vorab geben. D.h. wir werden gemeinsam im Kreis zusammenfinden\, uns mit dem eigenen Herzen verbinden\, Alltagslasten loslassen\, Atmen\, Mama Kakao in uns wirken lassen und von diesem inneren Freiraum in den Tanz starten. \nJede Tanzreise umfasst ca. 1\,45 Stunden. Danach findet ein meditativer Ausklang in Stille oder mit Klangschalen statt. \nIch freue mich auf DICH und UNS gemeinsam in der wundervollen Atmosphäre des Turmsaals zu tanzen! \nBei Fragen\, gerne schreiben: info@yokuma.de \nBitte beachtet: Es gibt KEINE Abendkasse. Tickets bitte vorab bestellen. Optional könnt ihr den Betrag auch direkt überweisen. \nBITTE bei jeder Überweisung im Verwendungszweck Euren vollen Namen + Datum der Veranstaltung angeben. \nDE90 7016 9509 0000 0831 27 \nBetrag: 37\,00 (incl. 19% MwSt.)  \nIncl Kakao \n  \n 
URL:https://yokuma.de/event/5061/
LOCATION:Turmsaal Schongau\, Münzstr. 48\, Schongau\, 86956
END:VEVENT
END:VCALENDAR