BEGIN:VCALENDAR
VERSION:2.0
PRODID:-//Yokuma - ECPv6.15.13.1//NONSGML v1.0//EN
CALSCALE:GREGORIAN
METHOD:PUBLISH
X-ORIGINAL-URL:https://yokuma.de
X-WR-CALDESC:Veranstaltungen für Yokuma
REFRESH-INTERVAL;VALUE=DURATION:PT1H
X-Robots-Tag:noindex
X-PUBLISHED-TTL:PT1H
BEGIN:VTIMEZONE
TZID:Europe/Amsterdam
BEGIN:DAYLIGHT
TZOFFSETFROM:+0100
TZOFFSETTO:+0200
TZNAME:CEST
DTSTART:20250330T010000
END:DAYLIGHT
BEGIN:STANDARD
TZOFFSETFROM:+0200
TZOFFSETTO:+0100
TZNAME:CET
DTSTART:20251026T010000
END:STANDARD
BEGIN:DAYLIGHT
TZOFFSETFROM:+0100
TZOFFSETTO:+0200
TZNAME:CEST
DTSTART:20260329T010000
END:DAYLIGHT
BEGIN:STANDARD
TZOFFSETFROM:+0200
TZOFFSETTO:+0100
TZNAME:CET
DTSTART:20261025T010000
END:STANDARD
BEGIN:DAYLIGHT
TZOFFSETFROM:+0100
TZOFFSETTO:+0200
TZNAME:CEST
DTSTART:20270328T010000
END:DAYLIGHT
BEGIN:STANDARD
TZOFFSETFROM:+0200
TZOFFSETTO:+0100
TZNAME:CET
DTSTART:20271031T010000
END:STANDARD
END:VTIMEZONE
BEGIN:VEVENT
DTSTART;TZID=Europe/Amsterdam:20260314T193000
DTEND;TZID=Europe/Amsterdam:20260314T230000
DTSTAMP:20260425T230805
CREATED:20260103T095333Z
LAST-MODIFIED:20260305T084610Z
UID:5226-1773516600-1773529200@yokuma.de
SUMMARY:Ecstatic Dance mit anschließendem Singen
DESCRIPTION:Ihr Lieben\, \n  \nAb diesem Jahr wird es bei jedem Tanzen ein kleines Special geben. Im März werden wir nach dem Tanzen anschließend miteinander Singen. \nWir beginnen mit einer kleinen Einführung und trinken gemeinsam zeremoniellen Kakao\, dieser unterstützt uns\, tiefer in den Tanz eintauchen zu können. Nach dem ca 30 minütigen gemeinsamen Beginn\, starten wir in den Tanz. Jede Tanzreise umfasst ca. 1\,45 Stunden. Danach begleiten uns Musiker mit ihren Instrumenten und Stimmen in ein gemeinsames Singen. \nIch freue mich auf DICH und UNS gemeinsam in der wundervollen Atmosphäre des Turmsaals zu tanzen! \nBei Fragen\, gerne schreiben: info@yokuma.de \nBitte beachtet: Es gibt KEINE Abendkasse. Tickets bitte vorab bestellen. Optional könnt ihr den Betrag auch direkt überweisen. \nBITTE bei jeder Überweisung im Verwendungszweck Euren vollen Namen + Datum der Veranstaltung angeben. \nDE90 7016 9509 0000 0815 31 \nBetrag: 37\,00 (incl. 19% MwSt.) \nIncl Kakao
URL:https://yokuma.de/event/ecstatic-dance-singen/
LOCATION:Turmsaal Schongau\, Münzstr. 48\, Schongau\, 86956
END:VEVENT
END:VCALENDAR