BEGIN:VCALENDAR
VERSION:2.0
PRODID:-//Yokuma - ECPv6.15.13.1//NONSGML v1.0//EN
CALSCALE:GREGORIAN
METHOD:PUBLISH
X-ORIGINAL-URL:https://yokuma.de
X-WR-CALDESC:Veranstaltungen für Yokuma
REFRESH-INTERVAL;VALUE=DURATION:PT1H
X-Robots-Tag:noindex
X-PUBLISHED-TTL:PT1H
BEGIN:VTIMEZONE
TZID:Europe/Amsterdam
BEGIN:DAYLIGHT
TZOFFSETFROM:+0100
TZOFFSETTO:+0200
TZNAME:CEST
DTSTART:20240331T010000
END:DAYLIGHT
BEGIN:STANDARD
TZOFFSETFROM:+0200
TZOFFSETTO:+0100
TZNAME:CET
DTSTART:20241027T010000
END:STANDARD
BEGIN:DAYLIGHT
TZOFFSETFROM:+0100
TZOFFSETTO:+0200
TZNAME:CEST
DTSTART:20250330T010000
END:DAYLIGHT
BEGIN:STANDARD
TZOFFSETFROM:+0200
TZOFFSETTO:+0100
TZNAME:CET
DTSTART:20251026T010000
END:STANDARD
BEGIN:DAYLIGHT
TZOFFSETFROM:+0100
TZOFFSETTO:+0200
TZNAME:CEST
DTSTART:20260329T010000
END:DAYLIGHT
BEGIN:STANDARD
TZOFFSETFROM:+0200
TZOFFSETTO:+0100
TZNAME:CET
DTSTART:20261025T010000
END:STANDARD
END:VTIMEZONE
BEGIN:VEVENT
DTSTART;TZID=Europe/Amsterdam:20251202T193500
DTEND;TZID=Europe/Amsterdam:20251202T213500
DTSTAMP:20260426T022118
CREATED:20251124T114015Z
LAST-MODIFIED:20251124T115632Z
UID:5049-1764704100-1764711300@yokuma.de
SUMMARY:Yoga & Bewusstseinsschulung
DESCRIPTION:Hey ihr Lieben\, \ndiese Yogakurse sind Stunden der ganz anderen Art. Lasst Euch berühren von der eigenen Seele durch Hingabe an den Körper durch Atem\, Bewegung und Bewusstsein. \nWir tauchen in so eine tiefe Energie des Friedens und der Liebe ein und erinnern uns an den unzerstörbaren Kern\, den wir alle in uns tragen. \nDieser Kurs ist ein vertiefter Kurs. Ankommen um 19.35 – Beginn 19.45 Uhr bis 21.35 Uhr \nEs gibt mehrere Varianten dabei zu sein. \nSchnupperstunde 25 Euro (wenn du das erste mal eine Yogastunde von mir besuchen möchtest) \nEinzelstunde gebe ich aktuell für 15% Rabatt\, dass heißt statt 39 Euro für 33 Euro (wenn du meine Kurse bereits kennst) \nKurseinstieg nach Vereinbarung \nFür Fragen schreibt mir gerne an: info@yokuma.de oder ruft gerne direkt an unter: 0178 321 35 9 \n 
URL:https://yokuma.de/event/yoga-bewusstseinsschulung-3/
LOCATION:Hofschmückerei Füssener Str. 41 86989 Steingaden
END:VEVENT
BEGIN:VEVENT
DTSTART;TZID=Europe/Amsterdam:20251203T182000
DTEND;TZID=Europe/Amsterdam:20251203T202000
DTSTAMP:20260426T022118
CREATED:20251124T115740Z
LAST-MODIFIED:20251124T115740Z
UID:5051-1764786000-1764793200@yokuma.de
SUMMARY:Yoga & Bewusstseinsschulung
DESCRIPTION:Hey ihr Lieben\, \ndiese Yogakurse sind Stunden der ganz anderen Art. Lasst Euch berühren von der eigenen Seele durch Hingabe an den Körper durch Atem\, Bewegung und Bewusstsein. \nWir tauchen in so eine tiefe Energie des Friedens und der Liebe ein und erinnern uns an den unzerstörbaren Kern\, den wir alle in uns tragen. \nDieser Kurs ist ein vertiefter Kurs. Ankommen um 18.20 – Beginn 18.30 Uhr bis 20.20 Uhr \nEs gibt mehrere Varianten dabei zu sein. \nSchnupperstunde 25 Euro (wenn du das erste mal eine Yogastunde von mir besuchen möchtest) \nEinzelstunde gebe ich aktuell für 15% Rabatt\, dass heißt statt 39 Euro für 33 Euro (wenn du meine Kurse bereits kennst) \nKurseinstieg nach Vereinbarung \nFür Fragen schreibt mir gerne an: info@yokuma.de oder ruft gerne direkt an unter: 0178 321 35 9 \n 
URL:https://yokuma.de/event/yoga-bewusstseinsschulung-4/
LOCATION:Hofschmückerei Füssener Str. 41 86989 Steingaden
END:VEVENT
BEGIN:VEVENT
DTSTART;TZID=Europe/Amsterdam:20251220T193000
DTEND;TZID=Europe/Amsterdam:20251220T230000
DTSTAMP:20260426T022118
CREATED:20250728T134455Z
LAST-MODIFIED:20251217T154808Z
UID:4700-1766259000-1766271600@yokuma.de
SUMMARY:Special Ecstatic Dance & Sacred Singcircle mit Arts of the hearts
DESCRIPTION:Die zwei wundervollen Zwillingsschwestern Susi & Rabija von Arts of the hearts begleiten uns nach dem Tanzen auf eine tiefe Reise in unsere innere Stimmwelt. Ihre Stimmen kommen wahrlich wie aus einer anderen Sphäre. Die Schwestern haben 10 Jahre auf Hawaii gelebt und bringen diesen Spirit mit. Tief\, zauberhaft\, elfengleich und unendlich zart trifft hier synergetisch auf die unglaublich besondere Energie von Ecstatic Dance in Schongau. Lasst Euch mitnehmen und verzaubern durch Tanz\, Stimme\, Atmosphäre! \nAblauf: \n19.30 – 20.00 Uhr: Ankommen \n20.00 – 20.30 Uhr: Gemeinsames Einstimmen\, Kakao trinken\, Achtsamkeit und Atemübungen \n20.30 – 22.00 Uhr: Tanzreise \n22.00 – 23.00 Uhr: Sacred Singcircle mit Susi & Rabija von Arts of the heart \n23.00 – open end: Ausklang\, Gemeinschaft\, Austausch \n 
URL:https://yokuma.de/event/special-ecstatic-dance/
LOCATION:Turmsaal Schongau\, Münzstr. 48\, Schongau\, 86956
END:VEVENT
BEGIN:VEVENT
DTSTART;TZID=Europe/Amsterdam:20251226T200000
DTEND;TZID=Europe/Amsterdam:20251226T223000
DTSTAMP:20260426T022118
CREATED:20251103T145538Z
LAST-MODIFIED:20251226T134056Z
UID:4987-1766779200-1766788200@yokuma.de
SUMMARY:Weihnachtszeremonie und Klangmeditation (ausgebucht)
DESCRIPTION:Ihr Lieben\, es ruft mich schon lange\, die besonderen\, stillen Stunden um Weihnachten herum zu nutzen\, in die tiefe des eigenen Seins einzutauchen. In das innere Herz einzutauchen\, sich mit sich selbst und der eigenen Seele zu verbinden\, um hier die bedingungslose Anbindung zu fühlen. Jenseits von Trubel\, Essen und Geschenke\, widmen wir uns vielleicht dem grössten Geschenk: Der Christuskraft in unserem Herzen. Was bedeutet es im Christusbewusstsein zu erwachen? \nEine tiefe Seelenreise\, zeremonieller Kakao und eine wunderbare Klangmeditation führt uns durch den Abend und erfüllt unsere Herzen! \nErfahrungsgemäß sind die Zeremonien schnell ausgebucht\, also meldet Euch gerne frühzeitig dafür an. Bringt gerne Eure Liebsten mit! \nBei Fragen stehe ich gerne zur Verfügung: info@yokuma.de \nAlles Liebe\, Eure Victoria Jamila
URL:https://yokuma.de/event/weihnachtszeremonie-klang/
LOCATION:Hofschmückerei Füssener Str. 41 86989 Steingaden
END:VEVENT
END:VCALENDAR